BEGIN:VCALENDAR
VERSION:2.0
PRODID:-//Living Free in Tennessee - Podcast - ECPv6.15.20//NONSGML v1.0//EN
CALSCALE:GREGORIAN
METHOD:PUBLISH
X-WR-CALNAME:Living Free in Tennessee - Podcast
X-ORIGINAL-URL:https://livingfreeintennessee.com
X-WR-CALDESC:Events for Living Free in Tennessee - Podcast
REFRESH-INTERVAL;VALUE=DURATION:PT1H
X-Robots-Tag:noindex
X-PUBLISHED-TTL:PT1H
BEGIN:VTIMEZONE
TZID:America/Chicago
BEGIN:DAYLIGHT
TZOFFSETFROM:-0600
TZOFFSETTO:-0500
TZNAME:CDT
DTSTART:20230312T080000
END:DAYLIGHT
BEGIN:STANDARD
TZOFFSETFROM:-0500
TZOFFSETTO:-0600
TZNAME:CST
DTSTART:20231105T070000
END:STANDARD
BEGIN:DAYLIGHT
TZOFFSETFROM:-0600
TZOFFSETTO:-0500
TZNAME:CDT
DTSTART:20240310T080000
END:DAYLIGHT
BEGIN:STANDARD
TZOFFSETFROM:-0500
TZOFFSETTO:-0600
TZNAME:CST
DTSTART:20241103T070000
END:STANDARD
BEGIN:DAYLIGHT
TZOFFSETFROM:-0600
TZOFFSETTO:-0500
TZNAME:CDT
DTSTART:20250309T080000
END:DAYLIGHT
BEGIN:STANDARD
TZOFFSETFROM:-0500
TZOFFSETTO:-0600
TZNAME:CST
DTSTART:20251102T070000
END:STANDARD
END:VTIMEZONE
BEGIN:VEVENT
DTSTART;TZID=America/Chicago:20241003T080000
DTEND;TZID=America/Chicago:20241003T160000
DTSTAMP:20260421T030856
CREATED:20240804T202456Z
LAST-MODIFIED:20240804T202456Z
UID:12666-1727942400-1727971200@livingfreeintennessee.com
SUMMARY:Advanced Woundcare and Closure Class
DESCRIPTION:Advanced Wound Care and Closure Class with Chuck Peoples From Homestead Medical \nThis class will teach you the essential steps for proper wound and burn care\, focusing on how to handle situations when medical assistance is not available. You will gain practical knowledge to assess and treat various types of wounds and burns with the resources you have on hand. \nDate: October 3\, 2024\nLocation: SOE compound\, Camden\, TN \nFirst\, we need to understand: \n\nHow severe is the wound?\nWhat type of wound or burn are we dealing with?\nWhat caused the wound or burn?\nWhat immediate steps can we take to prevent infection and further injury?\n\nYou will learn how to accurately assess the severity of wounds and burns and determine the necessary care based on available resources. The class will cover techniques for cleaning\, irrigating\, and debriding wounds\, using materials you are likely to have on hand. \nThrough interactive lessons and practice scenarios\, you will develop the skills needed to manage wound care in situations where professional medical help is not immediately available. \nWe will focus on practical\, immediate actions to take when faced with a wound or burn\, ensuring you are prepared to provide effective care and prevent complications. \nTopics Covered: \n\nWound assessment and initial care\nBurn assessment\nWound cleaning\, irrigation\, and debridement\nDecision-making: to close or not to close a wound\nLong-term care strategies\nPharmacology related to wound care\nTypes of closures and techniques\n\nWhat to Bring: \n\nNote-taking materials\nWater to stay hydrated\n\nLunch is Included \n 
URL:https://livingfreeintennessee.com/event/advanced-woundcare-and-closure-class/
LOCATION:Special Operations Equipment\, Camden\, TN\, United States
ATTACH;FMTTYPE=image/png:https://livingfreeintennessee.com/wp-content/uploads/3.png
END:VEVENT
BEGIN:VEVENT
DTSTART;TZID=America/Chicago:20241003T080000
DTEND;TZID=America/Chicago:20241003T160000
DTSTAMP:20260421T030856
CREATED:20240804T202731Z
LAST-MODIFIED:20240804T202731Z
UID:12670-1727942400-1727971200@livingfreeintennessee.com
SUMMARY:Fight Hacker: Escapeology
DESCRIPTION:Fight Hacker: Escapeology with Sonny Puzikas \nDate: October 3\, 2024\nLocation: SOE compound\, Camden\, TN\nTime: 8am – 4pm \nEscapeology is about moving from a tough spot to a better one. This one-day class\, led by Sonny Puzikas\, teaches you how to use smart moves and strategies to take control in both unarmed and armed situations. You’ll learn how to turn a bad situation into a chance to win. \nYes you will be in an immersive environment. Yes you will be physically running through scenarios. Yes you can take this class at any fitness level. \nWhat You’ll Learn\n\nEscape and Control: Learn how escape can mean a smart reset\, not just running away.\nKey Skills: Practice important skills like managing space and angles\, fighting forward\, and the RAMPP matrix (Relevance\, Adaptability\, Movement\, Posture\, Position).\nHands-On Practice: You’ll go through exercises to practice and test these skills.\n\nClass Details:\n\nAngle Management: How to position yourself against an opponent.\nWorkspace and Gap Management: How to use space effectively.\nFighting Forward: Moving with purpose.\nMovement and Posture: Breaking down movements for better control.\nRAMPP Matrix: A framework for effective action.\nTakedowns: Techniques to bring opponents to the ground.\n\nThe class will reverse-engineer problems to find solutions\, practicing each step along the way. Be ready for high-contact practice with others. \nWhat to Bring:\n\nClothes for the weather\nEye and ear protection\nOptional: mouthpiece and cup\nDrinks and snacks\nNotebook and pen\nOpen mind and willingness to learn\n\nIncludes Lunch
URL:https://livingfreeintennessee.com/event/fight-hacker-escapeology/
LOCATION:Special Operations Equipment\, Camden\, TN\, United States
ATTACH;FMTTYPE=image/png:https://livingfreeintennessee.com/wp-content/uploads/Webinar-graphic-500-x-500-px.png
END:VEVENT
BEGIN:VEVENT
DTSTART;TZID=America/Chicago:20241004T080000
DTEND;TZID=America/Chicago:20241004T160000
DTSTAMP:20260421T030856
CREATED:20240804T202919Z
LAST-MODIFIED:20240804T203151Z
UID:12676-1728028800-1728057600@livingfreeintennessee.com
SUMMARY:Science and Art of De-escalation
DESCRIPTION:This class will teach you how to manage conflicts and stop them from turning into physical fights. It’s more than just talking your way out of problems. You will learn methods to handle situations that might become dangerous. \nDate: October 4\, 2024\nLocation: SOE compound\, Camden\, TN \nFirst\, we need to understand: \n\nWhat is the conflict?\nWhy is there a conflict?\nWhere did the conflict come from?\nWhat are the main causes of violence?\n\nYou will learn about using words\, body language\, and how you position yourself to control the direction of the conflict. These are skills you will practice. \nThrough interactive lessons and practice scenarios\, you will learn how to control conflicts in your life\, whether it’s an argument at work or a dangerous encounter. \nWe often worry about future goals\, but it’s better to focus on what we can do now. Improving how we handle things now will lead to better outcomes. \nTopics Covered:\n\nLeading in a conflict.\nTiming and rhythm in a conflict.\nBreaking down the situation.\nSetting direction and goals.\nHow to reset the situation.\n\nWhat to Bring:\n\nNote-taking materials.\nWater to stay hydrated.\n\nLunch is Included
URL:https://livingfreeintennessee.com/event/science-and-art-of-de-escalation/
LOCATION:Special Operations Equipment\, Camden\, TN\, United States
ATTACH;FMTTYPE=image/png:https://livingfreeintennessee.com/wp-content/uploads/2.png
END:VEVENT
BEGIN:VEVENT
DTSTART;TZID=America/Chicago:20241004T080000
DTEND;TZID=America/Chicago:20241004T160000
DTSTAMP:20260421T030856
CREATED:20240804T203107Z
LAST-MODIFIED:20240804T203229Z
UID:12679-1728028800-1728057600@livingfreeintennessee.com
SUMMARY:Self Reliance Bootcamp\, Oct 4
DESCRIPTION:The Self Reliance Bootcamp is your chance to learn important skills for self-sufficiency in a single day. You will join John Willis\, Nicole Sauce\, Backwoods Butcher\, Sonny Puzikas and other experts to gain practical knowledge in a fun and supportive environment. \nDate: Oct 4\, 2024\nLocation: SOE in Camden\, TN \nFirst\, we will cover the basics of self-reliance: \n\nWhat is self-reliance?\nWhy is self-reliance important?\nHow can we achieve self-reliance?\n\nYou will learn various skills and techniques to help you become more self-sufficient. These are practical skills you will practice throughout the day. \nThrough hands-on practice\, you’ll build your ability to manage everyday challenges and emergencies. \nTopics Covered:\nFire: Learn different techniques for building and maintaining a fire.\nProcessing: Backwoods Butcher will show you humane ways to dispatch\, skin\, and gut a rabbit.\nOff Grid Cooking: Nicole Sauce will teach you how to prepare and cook the rabbit without electricity or a gas camp stove.\nEmergency Medical: Chuck Peoples will walk you through sutures and wound care.\nMedicinal Herbs: Amanda Willis will introduce you to common medicinal herbs and how to use them.\nBackyard Meat: John Willis will cover how to care for\, breed\, and manage rabbits.\nSelf Defense: Sonny Puzikas will show you ways to deal with violence.\nGardening Bootcamp: Tim Reilly will cover gardening best practices and companion planting concepts.\nWater and Sanitation: Shawn Mills will discuss methods for collecting and purifying water or how to use vermicomposting for waste management and soil fertility.\nModern Survival and Homesteading: A discussion about modern survival techniques and homesteading tips. \nWhat to Bring:\nNote-taking materials\nWater to stay hydrated \nBy focusing on what we can do now\, you’ll improve your self-reliance skills and be better prepared for the future. Join us for a day of learning\, practice\, and community! \nLunch is Included
URL:https://livingfreeintennessee.com/event/self-reliance-bootcamp-oct-4/
LOCATION:Special Operations Equipment\, Camden\, TN\, United States
ATTACH;FMTTYPE=image/png:https://livingfreeintennessee.com/wp-content/uploads/1.png
END:VEVENT
BEGIN:VEVENT
DTSTART;TZID=America/Chicago:20241019T090000
DTEND;TZID=America/Chicago:20241019T150000
DTSTAMP:20260421T030856
CREATED:20240831T202723Z
LAST-MODIFIED:20240831T202723Z
UID:12760-1729328400-1729350000@livingfreeintennessee.com
SUMMARY:Grid-Down Trauma Medical Training
DESCRIPTION:When seconds count\, help is only minutes away-in good times. What if it’s bad times\, and no one is coming to save you? Do you have the skills and supplies necessary to save life and limb? Time to get hands on with your training!\nClass tuition includes your own IFAK (Individual First Aid Kit)\, a $125 value! And\, you will actually USE your kit in the class! Learn to handle Massive Bleeding\, Airway Obstruction\, Burns\, Broken Bones\, and more.\nTaught by Paramedic and Wilderness Survival Expert Joshua McKinley\, this course will give you the fundamental knowledge and skills needed to handle not just the most common and serious trauma injuries\, but many other aspects of off-grid care. As times get more uncertain\, this information and training is all the more valuable.\nDate: Saturday\, October 19\, 2024\nTime: 10:00AM-4:00PM EASTERN (Pack a lunch!)\nLocation: 3701 Ringgold Rd. Chattanooga\, TN 37412\n$75 Non-Refundable Paypal Deposit Required to Reserve your Spot\n$200 BALANCE DUE AT THE DOOR\nBalance due in cash on signing in on day of class. No checks or electronic payments.\nOr: pay entire balance up front-NON-REFUNDABLE $275\nMake payment by paypal to jm91634@yahoo.com\nPlease Note: By Paying for the Class you are committing to attend! Payments are NON-Refundable but may be transferred to another person to attend this class.\nKids age 10-15 can attend for Free with their Parent or Legal Guardian who has paid tuition! Not suitable for kids under 10.\nIf you need to make alternative payment arrangements email\, or call or text 423-364-5535\nThanks and please help spread the word!
URL:https://livingfreeintennessee.com/event/grid-down-trauma-medical-training/
LOCATION:3701 Ringgold Road\, 3701 Ringgold Road\, Chattanooga\, TN\, 37412\, United States
ATTACH;FMTTYPE=image/jpeg:https://livingfreeintennessee.com/wp-content/uploads/457511185_1029666492279303_6245498270249480398_n.jpg
ORGANIZER;CN="Sequatchie School":MAILTO:Sequatchieschool@gmail.com
END:VEVENT
BEGIN:VEVENT
DTSTART;TZID=America/Chicago:20241030T180000
DTEND;TZID=America/Chicago:20241030T190000
DTSTAMP:20260421T030856
CREATED:20241019T190616Z
LAST-MODIFIED:20241019T190616Z
UID:13021-1730311200-1730314800@livingfreeintennessee.com
SUMMARY:Off Grid Water For Your Homestead
DESCRIPTION:Join us Wednesday\, October 30 at 6pm for a special webinar by Ryan Steva\, The Homestead Consultant about developing off grid water solutions for your homestead. Anyone who has been impacted by the most recent droughts should check this out! Or if you have a low producing well. Or if you just want to tap into the free water resources that can be captured on your land! \nWebinar will be delivered via ZOOM\, and recordings available after if you cannot make it in person.
URL:https://livingfreeintennessee.com/event/off-grid-water-for-your-homestead/
LOCATION:Zoom Webinar
CATEGORIES:Webinar
ATTACH;FMTTYPE=image/jpeg:https://livingfreeintennessee.com/wp-content/uploads/photo_2024-10-18-08.48.34.jpeg
ORGANIZER;CN="Nicole Sauce":MAILTO:Nicole@livingfreeintennessee.com
END:VEVENT
END:VCALENDAR