BEGIN:VCALENDAR
VERSION:2.0
PRODID:-//Living Free in Tennessee - Podcast - ECPv6.15.20//NONSGML v1.0//EN
CALSCALE:GREGORIAN
METHOD:PUBLISH
X-ORIGINAL-URL:https://livingfreeintennessee.com
X-WR-CALDESC:Events for Living Free in Tennessee - Podcast
REFRESH-INTERVAL;VALUE=DURATION:PT1H
X-Robots-Tag:noindex
X-PUBLISHED-TTL:PT1H
BEGIN:VTIMEZONE
TZID:America/New_York
BEGIN:DAYLIGHT
TZOFFSETFROM:-0500
TZOFFSETTO:-0400
TZNAME:EDT
DTSTART:20210314T070000
END:DAYLIGHT
BEGIN:STANDARD
TZOFFSETFROM:-0400
TZOFFSETTO:-0500
TZNAME:EST
DTSTART:20211107T060000
END:STANDARD
BEGIN:DAYLIGHT
TZOFFSETFROM:-0500
TZOFFSETTO:-0400
TZNAME:EDT
DTSTART:20220313T070000
END:DAYLIGHT
BEGIN:STANDARD
TZOFFSETFROM:-0400
TZOFFSETTO:-0500
TZNAME:EST
DTSTART:20221106T060000
END:STANDARD
BEGIN:DAYLIGHT
TZOFFSETFROM:-0500
TZOFFSETTO:-0400
TZNAME:EDT
DTSTART:20230312T070000
END:DAYLIGHT
BEGIN:STANDARD
TZOFFSETFROM:-0400
TZOFFSETTO:-0500
TZNAME:EST
DTSTART:20231105T060000
END:STANDARD
END:VTIMEZONE
BEGIN:VEVENT
DTSTART;TZID=America/New_York:20221119T110000
DTEND;TZID=America/New_York:20221119T153000
DTSTAMP:20260419T074250
CREATED:20221109T165756Z
LAST-MODIFIED:20221109T165756Z
UID:10240-1668855600-1668871800@livingfreeintennessee.com
SUMMARY:Power Pantry Workshop
DESCRIPTION:Turn your home into your own personal food bank\n\n\n\n\nAnd confidently feed your family year-round no matter how bad food shortages\, inflation\, or supply chain issues become.\nWith the right system in place you can buy\, grow\, make\, and cook all the food you want and never waste a single crumb\, always have plenty for daily and emergency use\, and never have to worry about not having enough. \nPLUS\, having a good pantry means LESS TIME SHOPPING FOR BASIC SUPPLIES! \nSpecial Guest Survival Punk will cover how to create your storage system in a small space.
URL:https://livingfreeintennessee.com/event/power-pantry-workshop/
LOCATION:TN
ATTACH;FMTTYPE=image/jpeg:https://livingfreeintennessee.com/wp-content/uploads/IMAGE-2022-11-09-095731.jpg
END:VEVENT
END:VCALENDAR