BEGIN:VCALENDAR
VERSION:2.0
PRODID:-//Living Free in Tennessee - Podcast - ECPv6.15.20//NONSGML v1.0//EN
CALSCALE:GREGORIAN
METHOD:PUBLISH
X-ORIGINAL-URL:https://livingfreeintennessee.com
X-WR-CALDESC:Events for Living Free in Tennessee - Podcast
REFRESH-INTERVAL;VALUE=DURATION:PT1H
X-Robots-Tag:noindex
X-PUBLISHED-TTL:PT1H
BEGIN:VTIMEZONE
TZID:America/Chicago
BEGIN:DAYLIGHT
TZOFFSETFROM:-0600
TZOFFSETTO:-0500
TZNAME:CDT
DTSTART:20240310T080000
END:DAYLIGHT
BEGIN:STANDARD
TZOFFSETFROM:-0500
TZOFFSETTO:-0600
TZNAME:CST
DTSTART:20241103T070000
END:STANDARD
BEGIN:DAYLIGHT
TZOFFSETFROM:-0600
TZOFFSETTO:-0500
TZNAME:CDT
DTSTART:20250309T080000
END:DAYLIGHT
BEGIN:STANDARD
TZOFFSETFROM:-0500
TZOFFSETTO:-0600
TZNAME:CST
DTSTART:20251102T070000
END:STANDARD
BEGIN:DAYLIGHT
TZOFFSETFROM:-0600
TZOFFSETTO:-0500
TZNAME:CDT
DTSTART:20260308T080000
END:DAYLIGHT
BEGIN:STANDARD
TZOFFSETFROM:-0500
TZOFFSETTO:-0600
TZNAME:CST
DTSTART:20261101T070000
END:STANDARD
END:VTIMEZONE
BEGIN:VEVENT
DTSTART;TZID=America/Chicago:20250109T180000
DTEND;TZID=America/Chicago:20250109T190000
DTSTAMP:20260425T154934
CREATED:20241213T140037Z
LAST-MODIFIED:20241213T140037Z
UID:13284-1736445600-1736449200@livingfreeintennessee.com
SUMMARY:#My3Things Webinar
DESCRIPTION:I can’t wait to show you the steps I took to build my FIVE YEAR overnight success! January 9 at 6pm\, we will come together and walk through what I did\, step by step. \n>>Learn the question to ask to build your personal vision statement\n>>Break through the confusion caused by “Overwhelm” and make progress toward your success each day\n>>The one habit that sets you up for great days\n>>How to build your personal blueprint to build a life you love
URL:https://livingfreeintennessee.com/event/my3things-webinar/
LOCATION:Zoom Webinar
CATEGORIES:Webinar
ORGANIZER;CN="Nicole Sauce":MAILTO:Nicole@livingfreeintennessee.com
END:VEVENT
END:VCALENDAR