BEGIN:VCALENDAR
VERSION:2.0
PRODID:-//Living Free in Tennessee - Podcast - ECPv6.15.20//NONSGML v1.0//EN
CALSCALE:GREGORIAN
METHOD:PUBLISH
X-WR-CALNAME:Living Free in Tennessee - Podcast
X-ORIGINAL-URL:https://livingfreeintennessee.com
X-WR-CALDESC:Events for Living Free in Tennessee - Podcast
REFRESH-INTERVAL;VALUE=DURATION:PT1H
X-Robots-Tag:noindex
X-PUBLISHED-TTL:PT1H
BEGIN:VTIMEZONE
TZID:America/Chicago
BEGIN:DAYLIGHT
TZOFFSETFROM:-0600
TZOFFSETTO:-0500
TZNAME:CDT
DTSTART:20230312T080000
END:DAYLIGHT
BEGIN:STANDARD
TZOFFSETFROM:-0500
TZOFFSETTO:-0600
TZNAME:CST
DTSTART:20231105T070000
END:STANDARD
BEGIN:DAYLIGHT
TZOFFSETFROM:-0600
TZOFFSETTO:-0500
TZNAME:CDT
DTSTART:20240310T080000
END:DAYLIGHT
BEGIN:STANDARD
TZOFFSETFROM:-0500
TZOFFSETTO:-0600
TZNAME:CST
DTSTART:20241103T070000
END:STANDARD
BEGIN:DAYLIGHT
TZOFFSETFROM:-0600
TZOFFSETTO:-0500
TZNAME:CDT
DTSTART:20250309T080000
END:DAYLIGHT
BEGIN:STANDARD
TZOFFSETFROM:-0500
TZOFFSETTO:-0600
TZNAME:CST
DTSTART:20251102T070000
END:STANDARD
END:VTIMEZONE
BEGIN:VEVENT
DTSTART;TZID=America/Chicago:20241221T120000
DTEND;TZID=America/Chicago:20241221T150000
DTSTAMP:20260425T131057
CREATED:20241202T164559Z
LAST-MODIFIED:20241202T164915Z
UID:13248-1734782400-1734793200@livingfreeintennessee.com
SUMMARY:LFTN Christmas Reception
DESCRIPTION:Join us at the Holler Homestead for our annual Christmas Gathering. Bring an appetizer or treat to share. We will also be decking my tree and\, well\, just having some fun. \nThis year\, we are staying alcohol free to support some of our LFTN community members who quit drinking this year. \nRSVP HERE \n\n 
URL:https://livingfreeintennessee.com/event/lftn-christmas-reception-2/
LOCATION:Holler Homestead\, 512 Long Branch RD\, Lancaster\, TN\, 38569\, United States
ATTACH;FMTTYPE=image/jpeg:https://livingfreeintennessee.com/wp-content/uploads/nightbeforechristmas.jpg
ORGANIZER;CN="Nicole Sauce":MAILTO:Nicole@livingfreeintennessee.com
END:VEVENT
END:VCALENDAR