BEGIN:VCALENDAR
VERSION:2.0
PRODID:-//Living Free in Tennessee - Podcast - ECPv6.15.20//NONSGML v1.0//EN
CALSCALE:GREGORIAN
METHOD:PUBLISH
X-WR-CALNAME:Living Free in Tennessee - Podcast
X-ORIGINAL-URL:https://livingfreeintennessee.com
X-WR-CALDESC:Events for Living Free in Tennessee - Podcast
REFRESH-INTERVAL;VALUE=DURATION:PT1H
X-Robots-Tag:noindex
X-PUBLISHED-TTL:PT1H
BEGIN:VTIMEZONE
TZID:America/Chicago
BEGIN:DAYLIGHT
TZOFFSETFROM:-0600
TZOFFSETTO:-0500
TZNAME:CDT
DTSTART:20230312T080000
END:DAYLIGHT
BEGIN:STANDARD
TZOFFSETFROM:-0500
TZOFFSETTO:-0600
TZNAME:CST
DTSTART:20231105T070000
END:STANDARD
BEGIN:DAYLIGHT
TZOFFSETFROM:-0600
TZOFFSETTO:-0500
TZNAME:CDT
DTSTART:20240310T080000
END:DAYLIGHT
BEGIN:STANDARD
TZOFFSETFROM:-0500
TZOFFSETTO:-0600
TZNAME:CST
DTSTART:20241103T070000
END:STANDARD
BEGIN:DAYLIGHT
TZOFFSETFROM:-0600
TZOFFSETTO:-0500
TZNAME:CDT
DTSTART:20250309T080000
END:DAYLIGHT
BEGIN:STANDARD
TZOFFSETFROM:-0500
TZOFFSETTO:-0600
TZNAME:CST
DTSTART:20251102T070000
END:STANDARD
END:VTIMEZONE
BEGIN:VEVENT
DTSTART;TZID=America/Chicago:20241019T090000
DTEND;TZID=America/Chicago:20241019T150000
DTSTAMP:20260419T092704
CREATED:20240831T202723Z
LAST-MODIFIED:20240831T202723Z
UID:12760-1729328400-1729350000@livingfreeintennessee.com
SUMMARY:Grid-Down Trauma Medical Training
DESCRIPTION:When seconds count\, help is only minutes away-in good times. What if it’s bad times\, and no one is coming to save you? Do you have the skills and supplies necessary to save life and limb? Time to get hands on with your training!\nClass tuition includes your own IFAK (Individual First Aid Kit)\, a $125 value! And\, you will actually USE your kit in the class! Learn to handle Massive Bleeding\, Airway Obstruction\, Burns\, Broken Bones\, and more.\nTaught by Paramedic and Wilderness Survival Expert Joshua McKinley\, this course will give you the fundamental knowledge and skills needed to handle not just the most common and serious trauma injuries\, but many other aspects of off-grid care. As times get more uncertain\, this information and training is all the more valuable.\nDate: Saturday\, October 19\, 2024\nTime: 10:00AM-4:00PM EASTERN (Pack a lunch!)\nLocation: 3701 Ringgold Rd. Chattanooga\, TN 37412\n$75 Non-Refundable Paypal Deposit Required to Reserve your Spot\n$200 BALANCE DUE AT THE DOOR\nBalance due in cash on signing in on day of class. No checks or electronic payments.\nOr: pay entire balance up front-NON-REFUNDABLE $275\nMake payment by paypal to jm91634@yahoo.com\nPlease Note: By Paying for the Class you are committing to attend! Payments are NON-Refundable but may be transferred to another person to attend this class.\nKids age 10-15 can attend for Free with their Parent or Legal Guardian who has paid tuition! Not suitable for kids under 10.\nIf you need to make alternative payment arrangements email\, or call or text 423-364-5535\nThanks and please help spread the word!
URL:https://livingfreeintennessee.com/event/grid-down-trauma-medical-training/
LOCATION:3701 Ringgold Road\, 3701 Ringgold Road\, Chattanooga\, TN\, 37412\, United States
ATTACH;FMTTYPE=image/jpeg:https://livingfreeintennessee.com/wp-content/uploads/457511185_1029666492279303_6245498270249480398_n.jpg
ORGANIZER;CN="Sequatchie School":MAILTO:Sequatchieschool@gmail.com
END:VEVENT
END:VCALENDAR