BEGIN:VCALENDAR
VERSION:2.0
PRODID:-//Living Free in Tennessee - Podcast - ECPv6.15.20//NONSGML v1.0//EN
CALSCALE:GREGORIAN
METHOD:PUBLISH
X-ORIGINAL-URL:https://livingfreeintennessee.com
X-WR-CALDESC:Events for Living Free in Tennessee - Podcast
REFRESH-INTERVAL;VALUE=DURATION:PT1H
X-Robots-Tag:noindex
X-PUBLISHED-TTL:PT1H
BEGIN:VTIMEZONE
TZID:America/New_York
BEGIN:DAYLIGHT
TZOFFSETFROM:-0500
TZOFFSETTO:-0400
TZNAME:EDT
DTSTART:20210314T070000
END:DAYLIGHT
BEGIN:STANDARD
TZOFFSETFROM:-0400
TZOFFSETTO:-0500
TZNAME:EST
DTSTART:20211107T060000
END:STANDARD
BEGIN:DAYLIGHT
TZOFFSETFROM:-0500
TZOFFSETTO:-0400
TZNAME:EDT
DTSTART:20220313T070000
END:DAYLIGHT
BEGIN:STANDARD
TZOFFSETFROM:-0400
TZOFFSETTO:-0500
TZNAME:EST
DTSTART:20221106T060000
END:STANDARD
BEGIN:DAYLIGHT
TZOFFSETFROM:-0500
TZOFFSETTO:-0400
TZNAME:EDT
DTSTART:20230312T070000
END:DAYLIGHT
BEGIN:STANDARD
TZOFFSETFROM:-0400
TZOFFSETTO:-0500
TZNAME:EST
DTSTART:20231105T060000
END:STANDARD
END:VTIMEZONE
BEGIN:VEVENT
DTSTART;TZID=America/New_York:20221027T150000
DTEND;TZID=America/New_York:20221030T100000
DTSTAMP:20260419T101906
CREATED:20221007T124749Z
LAST-MODIFIED:20221007T124946Z
UID:10084-1666882800-1667124000@livingfreeintennessee.com
SUMMARY:Food Forest Workshop
DESCRIPTION:Join me for a food forest installation AND gravity fed water transition at the Holler Homestead. Breakfast\, Lunch\, Dinner and beverages provided. Camping included and available on site. \n[av_button label=’Tickets’ icon_select=’no’ icon=’ue800′ font=’entypo-fontello’ link=’product\,9841′ link_target=” size=’small’ position=’center’ label_display=” title_attr=” size-text=” av-desktop-font-size-text=” av-medium-font-size-text=” av-small-font-size-text=” av-mini-font-size-text=” margin=” margin_sync=’true’ padding=” padding_sync=’true’ av-desktop-margin=” av-desktop-margin_sync=’true’ av-desktop-padding=” av-desktop-padding_sync=’true’ av-medium-margin=” av-medium-margin_sync=’true’ av-medium-padding=” av-medium-padding_sync=’true’ av-small-margin=” av-small-margin_sync=’true’ av-small-padding=” av-small-padding_sync=’true’ av-mini-margin=” av-mini-margin_sync=’true’ av-mini-padding=” av-mini-padding_sync=’true’ color_options=” color=’theme-color’ custom_bg=’#444444′ custom_font=’#ffffff’ btn_color_bg=’theme-color’ btn_custom_grad_direction=’vertical’ btn_custom_grad_1=’#000000′ btn_custom_grad_2=’#ffffff’ btn_custom_grad_3=” btn_custom_grad_opacity=’0.7′ btn_custom_bg=’#444444′ btn_color_bg_hover=’theme-color-highlight’ btn_custom_bg_hover=’#444444′ btn_color_font=’theme-color’ btn_custom_font=’#ffffff’ btn_color_font_hover=’white’ btn_custom_font_hover=’#ffffff’ border=” border_width=” border_width_sync=’true’ border_color=” border_radius=” border_radius_sync=’true’ box_shadow=” box_shadow_style=’0px\,0px\,0px\,0px’ box_shadow_color=” animation=” animation_duration=” animation_custom_bg_color=” animation_z_index_curtain=’100′ hover_opacity=” sonar_effect_effect=” sonar_effect_color=” sonar_effect_duration=’1′ sonar_effect_scale=” sonar_effect_opac=’0.5′ css_position=” css_position_location=’\,\,\,’ css_position_z_index=” av-desktop-css_position=” av-desktop-css_position_location=’\,\,\,’ av-desktop-css_position_z_index=” av-medium-css_position=” av-medium-css_position_location=’\,\,\,’ av-medium-css_position_z_index=” av-small-css_position=” av-small-css_position_location=’\,\,\,’ av-small-css_position_z_index=” av-mini-css_position=” av-mini-css_position_location=’\,\,\,’ av-mini-css_position_z_index=” id=” custom_class=” template_class=” av_uid=” sc_version=’1.0′ admin_preview_bg=”] \nInstructors: \nNicholas Ferguson\, Homegrown Liberty\nShawn Mills\, Hack My Solar \nActivities: Food Forest \n\nPrinciples for planning a food forest within your big picture permaculture vision\nWHY NOW?\nEarthworks done during class (weather permitting – we will do them before if it looks rainy that weekend. If this happens we will start with a tour of what we did and why)\nHow to plant the food forest\nHands-on planting\n\nActivities: Gravity Fed Water System \n\nWhy we chose this project as part of our big picture move to reduce dependence on the power grid\nHow this new system adds resilience in power outages\nWhat function stacking projects did we add while the ditch was open\nWHY NOW?\nActual plumbing of the system (Assuming we can source all the fittings)\n\nOther Activities: \n\nRocket Mass Heater Tour\nSolar Water Heater Tour\nLivestock/Fencing Tour\nOther pop up sessions as time allows\nNicole Sauce’s Saturday evening birthday bash. (Halloween costumes welcome)
URL:https://livingfreeintennessee.com/event/food-forest-workshop/
LOCATION:Holler Homestead\, 512 Long Branch RD\, Lancaster\, TN\, 38569\, United States
ATTACH;FMTTYPE=image/jpeg:https://livingfreeintennessee.com/wp-content/uploads/Ferguson-Nick-3_202201.jpg
ORGANIZER;CN="Nicole Sauce":MAILTO:Nicole@livingfreeintennessee.com
END:VEVENT
END:VCALENDAR